BEGIN:VCALENDAR
VERSION:2.0
PRODID:-//Oakville Shrine Club - ECPv6.0.12//NONSGML v1.0//EN
CALSCALE:GREGORIAN
METHOD:PUBLISH
X-WR-CALNAME:Oakville Shrine Club
X-ORIGINAL-URL:https://oakvilleshrineclub.ca
X-WR-CALDESC:Events for Oakville Shrine Club
REFRESH-INTERVAL;VALUE=DURATION:PT1H
X-Robots-Tag:noindex
X-PUBLISHED-TTL:PT1H
BEGIN:VTIMEZONE
TZID:America/Toronto
BEGIN:DAYLIGHT
TZOFFSETFROM:-0500
TZOFFSETTO:-0400
TZNAME:EDT
DTSTART:20230312T070000
END:DAYLIGHT
BEGIN:STANDARD
TZOFFSETFROM:-0400
TZOFFSETTO:-0500
TZNAME:EST
DTSTART:20231105T060000
END:STANDARD
END:VTIMEZONE
BEGIN:VEVENT
DTSTART;VALUE=DATE:20230919
DTEND;VALUE=DATE:20230930
DTSTAMP:20260420T082938
CREATED:20230404T001533Z
LAST-MODIFIED:20230404T001533Z
UID:70-1695081600-1696031999@oakvilleshrineclub.ca
SUMMARY:Potentate's Trip
DESCRIPTION:The Potentates trip this year is from NYC to Montreal with visits to the Boston and Montreal Hospitals.   Please check the Papyrus for details
URL:https://oakvilleshrineclub.ca/event/potentates-trip/
LOCATION:Ontario
END:VEVENT
END:VCALENDAR